BEGIN:VCALENDAR
VERSION:2.0
PRODID:-//hacksw/handcal//NONSGML v1.0//EN
BEGIN:VEVENT
DTSTAMP:20260806T023000Z
DTSTART:20260806T023000Z
DTEND:20260806T043000Z

SUMMARY:BINI
DESCRIPTION:BINI is an eight-member Filipino girl group (Aiah, Colet, Maloi, Gwen, Stacey, Mikha, Jhoanna, and Sheena) redefining global pop. With more than 1 billion global streams from viral hits like “Cherry On Top” and a passionate global audience, the octet has rapidly emerged as one of Southeast Asia’s most influential musical forces. Crowned the Philippines’ “Nation’s Girl Group,” the octet has achieved a series of historic milestones, including recognition as one of Spotify’s Breakout Artists of 2024 and making history as the first Filipino group confirmed on the lineup of Coachella Valley Music and Arts Festival 2026. Fresh off major wins at the Awit Awards (GRAMMY’s equivalent in the Philippines) and Brazil’s BreakTudo Awards, BINI continues to champion the rising global wave of Asian pop. Their previous album FLAMES followed a breakthrough year that included MTV Europe Music Awards Best Asia Act honors and a standout feature in The Recording Academy’s GRAMMY.com list of “14 Pinoy Pop Acts You Should Know.” Named “Female Group of the Year” at the Jupiter Music Awards 2025, BINI stands at the forefront of Filipino pop’s international ascent. With chart-topping releases, sold-out arena shows including being the first Filipino act to sell out the Philippine Arena (+50k), which is the world’s largest indoor arena, a rapidly expanding global fan community known as Blooms, the group has become a cultural phenomenon bringing the vibrancy of Filipino pop to the world stage. As they celebrate the recent release of their new EP Signals, BINI continues to push the boundaries of pop, proving they are not only the pride of the Philippines but one of the most exciting rising forces in global music today.
END:VEVENT
END:VCALENDAR