BEGIN:VCALENDAR
VERSION:2.0
PRODID:-//hacksw/handcal//NONSGML v1.0//EN
BEGIN:VEVENT
DTSTAMP:20261014T030000Z
DTSTART:20261014T030000Z
DTEND:20261014T050000Z

SUMMARY:Metaphor ReFantazio
DESCRIPTION:Music was the first magic this woekd ever knew. 
END:VEVENT
END:VCALENDAR